BEGIN:VCALENDAR
VERSION:2.0
PRODID:-//wp-events-plugin.com//7.2.3.1//EN
TZID:Europe/Paris
X-WR-TIMEZONE:Europe/Paris
BEGIN:VEVENT
UID:5@ensemble-antiphona.org
DTSTART;TZID=Europe/Paris:20230524T200000
DTEND;TZID=Europe/Paris:20230524T210000
DTSTAMP:20231009T114945Z
URL:https://ensemble-antiphona.org/events/mediation-les-choeurs-en-fete-2/
SUMMARY:Les chœurs en fête
DESCRIPTION:Antiphona accueille les élèves du conservatoire de Toulouse.\
 n\n&nbsp\;\nEnsemble vocal du CRR et la classe de direction de chœur\n«
  Ave verum » - William Byrd (1540 -1623)\n« Funeral music for Queen M
 ary » - Henry Purcell (1659-1695)\n1. Man that is born of a woman (dir. 
 Judith Paimblanc)\n2. In the midst of life (dir. Biljana Kovac)\n3. Thou k
 nowest\, Lord (dir. Rita Ibrahim)\n« Hodie Christus natus est »  mote
 t pour chœur mixte de Mark Opstad (dir. Chin-Kwee David NG)\n« Sweet Lo
 ve for me » op.49 No. 4 de Charles Villirs Stanford (1852-1924)\n« Let
  God arise » - HWV 256a George Freidrich Handel (1685-1759)\nAnthem Nr. 
 11 for the Duke of Chandos   (extraits)\nChœur « Let God arise » (di
 r. Sibylle Pomel)\nAir (Ténor) « Like as the smoke vanischeth » solis
 te : Arthur Perot\nAir (Soprano) « Let the righteous be glad » soliste
  : Morgane Solignac\nDuo et chœur «  O sing unto God » (dir. Sibylle 
 Pomel)\nsolistes : Grégoire Huppé contre-ténor et Quentin Hériveau bar
 yton-basse\nQuatuor « Praised be the Lord » (dir. Sibylle Pomel)\nChœ
 ur « At thy rebuke\, O God » (dir. Chin-Kwee David NG)\nChœur «  Bl
 essed be God\, Alleluia » (dir. Chin-Kwee David NG)\nPiano : Mark Opstad
 \nDirection pédagogique et artistique : Rolandas Muleika\n&nbsp\;
ATTACH;FMTTYPE=image/jpeg:https://ensemble-antiphona.org/wp-content/upload
 s/20181006-Gesu-Alexandre-Ollier-83-scaled.jpg
CATEGORIES:Médiation
LOCATION:Eglise du Gesu\, 22 bis rue des fleurs\, Toulouse\, 31000\, Occita
 nie\, France
X-APPLE-STRUCTURED-LOCATION;VALUE=URI;X-ADDRESS=22 bis rue des fleurs\, Tou
 louse\, 31000\, Occitanie\, France;X-APPLE-RADIUS=100;X-TITLE=Eglise du Ge
 su:geo:0,0
END:VEVENT
BEGIN:VTIMEZONE
TZID:Europe/Paris
X-LIC-LOCATION:Europe/Paris
BEGIN:DAYLIGHT
DTSTART:20230326T030000
TZOFFSETFROM:+0100
TZOFFSETTO:+0200
TZNAME:CEST
END:DAYLIGHT
END:VTIMEZONE
END:VCALENDAR