BEGIN:VCALENDAR
VERSION:2.0
PRODID:-//wp-events-plugin.com//7.2.3.1//EN
TZID:Europe/Paris
X-WR-TIMEZONE:Europe/Paris
BEGIN:VEVENT
UID:4@ensemble-antiphona.org
DTSTART;TZID=Europe/Paris:20230523T200000
DTEND;TZID=Europe/Paris:20230523T210000
DTSTAMP:20231009T114905Z
URL:https://ensemble-antiphona.org/events/mediation-les-choeurs-en-fete/
SUMMARY:Les chœurs en fête
DESCRIPTION:Antiphona accueille les élèves du conservatoire de Toulouse.\
 n\nChœur grégorien du CRR\n\n« Deus in adjutorium » antienne et faux-b
 ourdon Tomás Luis de Victoria (1548-1611)\n\n« Stetit angelus » offer
 toire (dir. Sibylle Pomel)\n\n« Requiem » - introït \n« Lux ætern
 a » - communion \n« Dies iræ dies illa » - séquence XIe siècle\n
 &nbsp\;\nChœur élémentaire\n« Messe Basse »  - de Gabriel Fauré (
 1845-1924)\n\n« Ave Maria » - op.50\, N°1 - de Joseph J. Mcgrath (188
 9-1968)\n\n« Panis Angelicus » - FWV 61 de César Franck (1822-1880) t
 exte St. Thomas d’Aquin (1228-1274)\n\n« Messe Brève » - de Léo De
 libes (1836-1871)\n\n« Homeward bound » - de Marta Keen (1956)\n\n« 
 Quem pastores » - de Mark Opstad (1978)\n\n« Jump\, Jive and Jam ! »
  chanson jazz à deux voix de Kirby Shaw (1942)\n\n« I am His Child »  
 - gospel traditionel\n\n&nbsp\;
ATTACH;FMTTYPE=image/jpeg:https://ensemble-antiphona.org/wp-content/upload
 s/20181006-Gesu-Alexandre-Ollier-83-scaled.jpg
CATEGORIES:Médiation
LOCATION:Eglise du Gesu\, 22 bis rue des fleurs\, Toulouse\, 31000\, Occita
 nie\, France
X-APPLE-STRUCTURED-LOCATION;VALUE=URI;X-ADDRESS=22 bis rue des fleurs\, Tou
 louse\, 31000\, Occitanie\, France;X-APPLE-RADIUS=100;X-TITLE=Eglise du Ge
 su:geo:0,0
END:VEVENT
BEGIN:VTIMEZONE
TZID:Europe/Paris
X-LIC-LOCATION:Europe/Paris
BEGIN:DAYLIGHT
DTSTART:20230326T030000
TZOFFSETFROM:+0100
TZOFFSETTO:+0200
TZNAME:CEST
END:DAYLIGHT
END:VTIMEZONE
END:VCALENDAR